BEGIN:VCALENDAR
VERSION:2.0
PRODID:-//Sydney Art Space - ECPv6.15.11//NONSGML v1.0//EN
CALSCALE:GREGORIAN
METHOD:PUBLISH
X-WR-CALNAME:Sydney Art Space
X-ORIGINAL-URL:https://www.sydneyartspace.com
X-WR-CALDESC:Events for Sydney Art Space
REFRESH-INTERVAL;VALUE=DURATION:PT1H
X-Robots-Tag:noindex
X-PUBLISHED-TTL:PT1H
BEGIN:VTIMEZONE
TZID:Australia/Sydney
BEGIN:STANDARD
TZOFFSETFROM:+1100
TZOFFSETTO:+1000
TZNAME:AEST
DTSTART:20250405T160000
END:STANDARD
BEGIN:DAYLIGHT
TZOFFSETFROM:+1000
TZOFFSETTO:+1100
TZNAME:AEDT
DTSTART:20251004T160000
END:DAYLIGHT
BEGIN:STANDARD
TZOFFSETFROM:+1100
TZOFFSETTO:+1000
TZNAME:AEST
DTSTART:20260404T160000
END:STANDARD
BEGIN:DAYLIGHT
TZOFFSETFROM:+1000
TZOFFSETTO:+1100
TZNAME:AEDT
DTSTART:20261003T160000
END:DAYLIGHT
BEGIN:STANDARD
TZOFFSETFROM:+1100
TZOFFSETTO:+1000
TZNAME:AEST
DTSTART:20270403T160000
END:STANDARD
BEGIN:DAYLIGHT
TZOFFSETFROM:+1000
TZOFFSETTO:+1100
TZNAME:AEDT
DTSTART:20271002T160000
END:DAYLIGHT
END:VTIMEZONE
BEGIN:VEVENT
DTSTART;TZID=Australia/Sydney:20260506T130000
DTEND;TZID=Australia/Sydney:20260506T150000
DTSTAMP:20260420T144427
CREATED:20260302T002318Z
LAST-MODIFIED:20260317T233021Z
UID:10002841-1778072400-1778079600@www.sydneyartspace.com
SUMMARY:Drawing and Mixed Media - Term 2 2026
DESCRIPTION:PROGRAM TERM 2\nWEEK 1\nTwo Point Perspective: Graphite Pencil \nWEEK 2\nNegative and Positive Space: Charcoal \nWEEK 3\nStill Life: Coloured Pencils AGNSW excursion \nWEEK 4\nPortrait Drawing: Pen and Coloured Inks after Toulouse Lautrec \nWEEK 5\nThe Landscape: Pastels after Van Gogh \nWEEK 6\nThe Figure: Collage and Mixed Media \n 
URL:https://www.sydneyartspace.com/class/drawing-and-mixed-media-term-2-2026/2026-05-06/
LOCATION:Onespace\, 63 Bassett Street\, Mona Vale\, NSW\, 2103\, Australia
CATEGORIES:Adults,Afternoon,Featured,Multi Week,Term Course,Weekday
ORGANIZER;CN="Sydney Art Space":MAILTO:info@sydneyartspace.com
END:VEVENT
BEGIN:VEVENT
DTSTART;TZID=Australia/Sydney:20260513T130000
DTEND;TZID=Australia/Sydney:20260513T150000
DTSTAMP:20260420T144427
CREATED:20260302T002318Z
LAST-MODIFIED:20260317T233021Z
UID:10002842-1778677200-1778684400@www.sydneyartspace.com
SUMMARY:Drawing and Mixed Media - Term 2 2026
DESCRIPTION:PROGRAM TERM 2\nWEEK 1\nTwo Point Perspective: Graphite Pencil \nWEEK 2\nNegative and Positive Space: Charcoal \nWEEK 3\nStill Life: Coloured Pencils AGNSW excursion \nWEEK 4\nPortrait Drawing: Pen and Coloured Inks after Toulouse Lautrec \nWEEK 5\nThe Landscape: Pastels after Van Gogh \nWEEK 6\nThe Figure: Collage and Mixed Media \n 
URL:https://www.sydneyartspace.com/class/drawing-and-mixed-media-term-2-2026/2026-05-13/
LOCATION:Onespace\, 63 Bassett Street\, Mona Vale\, NSW\, 2103\, Australia
CATEGORIES:Adults,Afternoon,Featured,Multi Week,Term Course,Weekday
ORGANIZER;CN="Sydney Art Space":MAILTO:info@sydneyartspace.com
END:VEVENT
BEGIN:VEVENT
DTSTART;TZID=Australia/Sydney:20260520T130000
DTEND;TZID=Australia/Sydney:20260520T150000
DTSTAMP:20260420T144427
CREATED:20260302T002318Z
LAST-MODIFIED:20260317T233021Z
UID:10002843-1779282000-1779289200@www.sydneyartspace.com
SUMMARY:Drawing and Mixed Media - Term 2 2026
DESCRIPTION:PROGRAM TERM 2\nWEEK 1\nTwo Point Perspective: Graphite Pencil \nWEEK 2\nNegative and Positive Space: Charcoal \nWEEK 3\nStill Life: Coloured Pencils AGNSW excursion \nWEEK 4\nPortrait Drawing: Pen and Coloured Inks after Toulouse Lautrec \nWEEK 5\nThe Landscape: Pastels after Van Gogh \nWEEK 6\nThe Figure: Collage and Mixed Media \n 
URL:https://www.sydneyartspace.com/class/drawing-and-mixed-media-term-2-2026/2026-05-20/
LOCATION:Onespace\, 63 Bassett Street\, Mona Vale\, NSW\, 2103\, Australia
CATEGORIES:Adults,Afternoon,Featured,Multi Week,Term Course,Weekday
ORGANIZER;CN="Sydney Art Space":MAILTO:info@sydneyartspace.com
END:VEVENT
BEGIN:VEVENT
DTSTART;TZID=Australia/Sydney:20260527T130000
DTEND;TZID=Australia/Sydney:20260527T150000
DTSTAMP:20260420T144427
CREATED:20260302T002318Z
LAST-MODIFIED:20260317T233021Z
UID:10002844-1779886800-1779894000@www.sydneyartspace.com
SUMMARY:Drawing and Mixed Media - Term 2 2026
DESCRIPTION:PROGRAM TERM 2\nWEEK 1\nTwo Point Perspective: Graphite Pencil \nWEEK 2\nNegative and Positive Space: Charcoal \nWEEK 3\nStill Life: Coloured Pencils AGNSW excursion \nWEEK 4\nPortrait Drawing: Pen and Coloured Inks after Toulouse Lautrec \nWEEK 5\nThe Landscape: Pastels after Van Gogh \nWEEK 6\nThe Figure: Collage and Mixed Media \n 
URL:https://www.sydneyartspace.com/class/drawing-and-mixed-media-term-2-2026/2026-05-27/
LOCATION:Onespace\, 63 Bassett Street\, Mona Vale\, NSW\, 2103\, Australia
CATEGORIES:Adults,Afternoon,Featured,Multi Week,Term Course,Weekday
ORGANIZER;CN="Sydney Art Space":MAILTO:info@sydneyartspace.com
END:VEVENT
BEGIN:VEVENT
DTSTART;TZID=Australia/Sydney:20260603T130000
DTEND;TZID=Australia/Sydney:20260603T150000
DTSTAMP:20260420T144427
CREATED:20260302T002318Z
LAST-MODIFIED:20260317T233021Z
UID:10002845-1780491600-1780498800@www.sydneyartspace.com
SUMMARY:Drawing and Mixed Media - Term 2 2026
DESCRIPTION:PROGRAM TERM 2\nWEEK 1\nTwo Point Perspective: Graphite Pencil \nWEEK 2\nNegative and Positive Space: Charcoal \nWEEK 3\nStill Life: Coloured Pencils AGNSW excursion \nWEEK 4\nPortrait Drawing: Pen and Coloured Inks after Toulouse Lautrec \nWEEK 5\nThe Landscape: Pastels after Van Gogh \nWEEK 6\nThe Figure: Collage and Mixed Media \n 
URL:https://www.sydneyartspace.com/class/drawing-and-mixed-media-term-2-2026/2026-06-03/
LOCATION:Onespace\, 63 Bassett Street\, Mona Vale\, NSW\, 2103\, Australia
CATEGORIES:Adults,Afternoon,Featured,Multi Week,Term Course,Weekday
ORGANIZER;CN="Sydney Art Space":MAILTO:info@sydneyartspace.com
END:VEVENT
BEGIN:VEVENT
DTSTART;TZID=Australia/Sydney:20260610T130000
DTEND;TZID=Australia/Sydney:20260610T150000
DTSTAMP:20260420T144427
CREATED:20260302T002318Z
LAST-MODIFIED:20260317T233021Z
UID:10002863-1781096400-1781103600@www.sydneyartspace.com
SUMMARY:Drawing and Mixed Media - Term 2 2026
DESCRIPTION:PROGRAM TERM 2\nWEEK 1\nTwo Point Perspective: Graphite Pencil \nWEEK 2\nNegative and Positive Space: Charcoal \nWEEK 3\nStill Life: Coloured Pencils AGNSW excursion \nWEEK 4\nPortrait Drawing: Pen and Coloured Inks after Toulouse Lautrec \nWEEK 5\nThe Landscape: Pastels after Van Gogh \nWEEK 6\nThe Figure: Collage and Mixed Media \n 
URL:https://www.sydneyartspace.com/class/drawing-and-mixed-media-term-2-2026/2026-06-10/
LOCATION:Onespace\, 63 Bassett Street\, Mona Vale\, NSW\, 2103\, Australia
CATEGORIES:Adults,Afternoon,Featured,Multi Week,Term Course,Weekday
ORGANIZER;CN="Sydney Art Space":MAILTO:info@sydneyartspace.com
END:VEVENT
END:VCALENDAR